View In:
ArcGIS JavaScript
ArcGIS Online Map Viewer
ArcGIS Earth
ArcGIS Pro
Service Description: <DIV STYLE="text-align:Left;font-size:12pt"><DIV><DIV><P><SPAN>202</SPAN><SPAN>2</SPAN><SPAN> Orthophotography and Base Mapping</SPAN></P></DIV></DIV></DIV>
Map Name: NN_OrthoBase2022
Legend
All Layers and Tables
Dynamic Legend
Dynamic All Layers
Layers:
Description: 2022 Orthophotography and Base Mapping
Service Item Id: 25c0ca32da5e454fafc9504acd584f96
Copyright Text: 2022 Colour Ortho Imagery - First Base Solutions Inc.
Spatial Reference:
102100
(3857)
LatestVCSWkid(0)
Single Fused Map Cache: true
Tile Info:
- Height: 256.0
- Width: 256.0
- DPI: 96.0
-
Levels of Detail: 24
-
Level ID: 1
[ Start Tile, End Tile ]
- Resolution: 78271.5169639999
- Scale: 2.95828763795777E8
-
Level ID: 2
[ Start Tile, End Tile ]
- Resolution: 39135.7584820001
- Scale: 1.47914381897889E8
-
Level ID: 3
[ Start Tile, End Tile ]
- Resolution: 19567.8792409999
- Scale: 7.3957190948944E7
-
Level ID: 4
[ Start Tile, End Tile ]
- Resolution: 9783.93962049996
- Scale: 3.6978595474472E7
-
Level ID: 5
[ Start Tile, End Tile ]
- Resolution: 4891.96981024998
- Scale: 1.8489297737236E7
- Format: Mixed
- Compression Quality: 75.0
- Origin: X: -2.0037508342787E7
Y: 2.0037508342787E7
- Spatial Reference: 102100
(3857)
LatestVCSWkid(0)
Storage Info:
- Storage Format: esriMapCacheStorageModeCompactV2
- Packet Size: 128
Initial Extent:
XMin: -8856517.491510525
YMin: 5465313.887656774
XMax: -8837599.327009968
YMax: 5481079.024740571
Spatial Reference: 102100
(0)
LatestVCSWkid(0)
Full Extent:
XMin: -8881114.574
YMin: 5425806.570200004
XMax: -8810932.8881
YMax: 5538067.597099997
Spatial Reference: 102100
(0)
LatestVCSWkid(0)
Units: esriMeters
Supported Image Format Types: PNG32,PNG24,PNG,JPG,DIB,TIFF,EMF,PS,PDF,GIF,SVG,SVGZ,BMP
Document Info:
Title: NN_OrthoBase2022
Author:
Comments: 2022 Orthophotography and Base Mapping
Subject: 2022 Orthophotography and Base Mapping
Category:
Keywords: basemap,orthophotography,2022,Web Viewer,Web Viewer Ortho
AntialiasingMode: Fast
TextAntialiasingMode: Force
Supports Dynamic Layers: true
Resampling: false
MaxRecordCount: 2000
MaxSelectionCount: 2000
MaxImageHeight: 4096
MaxImageWidth: 4096
Supported Query Formats: JSON, geoJSON, PBF
Supports Query Data Elements: true
Min Scale: 288895.277144
Max Scale: 282.124294
Supports Datum Transformation: true
Child Resources:
Info
Dynamic Layer
Supported Operations:
Export Map
Identify
QueryLegends
QueryDomains
Find
Return Updates