View In:
ArcGIS JavaScript
ArcGIS Online Map Viewer
ArcGIS Earth
ArcGIS Pro
Service Description: 2016 Orthophotography and Base Mapping
Map Name: Layers
Legend
All Layers and Tables
Layers:
Description: 2016 Orthophotography and Base Mapping
Service Item Id: 3ee1884efac4436bb939c35a7d454d46
Copyright Text: 2016 Colour Ortho Imagery - First Base Solutions Inc., 2016 Orthophotography; Roads, Railway, Water Features, Municipal Boundary - Geomatics Division, Planning and Development Services Department (c) The Regional Municipality of York, 2016; Ward Boundaries, Landmarks - Town of Newmarket, 2016.
Spatial Reference:
102100
(3857)
LatestVCSWkid(0)
Single Fused Map Cache: true
Tile Info:
- Height: 256.0
- Width: 256.0
- DPI: 96.0
-
Levels of Detail: 24
-
Level ID: 1
[ Start Tile, End Tile ]
- Resolution: 78271.5169639999
- Scale: 2.95828763795777E8
-
Level ID: 2
[ Start Tile, End Tile ]
- Resolution: 39135.7584820001
- Scale: 1.47914381897889E8
-
Level ID: 3
[ Start Tile, End Tile ]
- Resolution: 19567.8792409999
- Scale: 7.3957190948944E7
-
Level ID: 4
[ Start Tile, End Tile ]
- Resolution: 9783.93962049996
- Scale: 3.6978595474472E7
-
Level ID: 5
[ Start Tile, End Tile ]
- Resolution: 4891.96981024998
- Scale: 1.8489297737236E7
- Format: Mixed
- Compression Quality: 75.0
- Origin: X: -2.0037508342787E7
Y: 2.0037508342787E7
- Spatial Reference: 102100
(3857)
LatestVCSWkid(0)
Storage Info:
- Storage Format: esriMapCacheStorageModeCompactV2
- Packet Size: 128
Initial Extent:
XMin: -8845480.477550603
YMin: 5473170.783121125
XMax: -8844839.667949233
YMax: 5474117.308477874
Spatial Reference: 102100
(0)
LatestVCSWkid(0)
Full Extent:
XMin: -8939607.12118795
YMin: 5382436.227889356
XMax: -8726870.574022025
YMax: 5606270.960401579
Spatial Reference: 102100
(0)
LatestVCSWkid(0)
Units: esriMeters
Supported Image Format Types: PNG32,PNG24,PNG,JPG,DIB,TIFF,EMF,PS,PDF,GIF,SVG,SVGZ,BMP
Document Info:
Title: Untitled.aprx
Author:
Comments: 2016 Orthophotography and Base Mapping
Subject: 2016 Orthophotography and Base Mapping
Category:
Keywords: 2016 Orthophtography,Base Mapping,Web Viewer Ortho,2016
AntialiasingMode: None
TextAntialiasingMode: Force
Supports Dynamic Layers: false
Resampling: false
MaxRecordCount: 1000
MaxSelectionCount: 2000
MaxImageHeight: 4096
MaxImageWidth: 4096
Supported Query Formats: JSON, geoJSON, PBF
Supports Query Data Elements: true
Min Scale: 577790.554289
Max Scale: 100
Supports Datum Transformation: true
Child Resources:
Info
Supported Operations:
Export Map
Identify
QueryLegends
QueryDomains
Find
Return Updates
Generate KML